BEGIN:VCALENDAR
VERSION:2.0
PRODID:-//ChamberMaster//Event Calendar 2.0//EN
METHOD:PUBLISH
X-PUBLISHED-TTL:P3D
REFRESH-INTERVAL:P3D
CALSCALE:GREGORIAN
BEGIN:VEVENT
DTSTART:20181117T150000Z
DTEND:20181118T220000Z
X-MICROSOFT-CDO-ALLDAYEVENT:FALSE
SUMMARY:47th Annual ChamberSOUTH South Miami Arts Festival
DESCRIPTION:Art and culture lovers can enjoy this free festival taking place on historic Sunset Drive in the heart of South Miami nestled between wide sidewalks\, caf s\, quaint shops and lush landscaping.\n\nThe annual ChamberSOUTH Miami Art Festival is produced by ChamberSOUTH\, the chamber of commerce for greater south Miami-Dade. Our goal is to continue to provide our community with a quality fine art show that will both stimulate the local economy and increase the awareness of the arts.
X-ALT-DESC;FMTTYPE=text/html:<p style="box-sizing: border-box\; margin: 0px 0px 20px\; color: rgb(116\, 116\, 116)\; font-family: &quot\;Open Sans&quot\;\, Arial\, Helvetica\, sans-serif\; font-size: 16px\;">Art and culture lovers can enjoy this free festival taking place on historic Sunset Drive in the heart of South Miami nestled between wide sidewalks\, caf&eacute\;s\, quaint shops and lush landscaping.</p>\n\n<p style="box-sizing: border-box\; margin: 0px 0px 20px\; color: rgb(116\, 116\, 116)\; font-family: &quot\;Open Sans&quot\;\, Arial\, Helvetica\, sans-serif\; font-size: 16px\;">The annual ChamberSOUTH Miami Art Festival is produced by ChamberSOUTH\, the chamber of commerce for greater south Miami-Dade. Our goal is to continue to provide our community with a quality fine art show that will both&nbsp\;stimulate the local economy and increase the awareness of the arts.</p>\n
LOCATION:All along Sunset Drive\, infront of the shops at sunset place!
UID:e.753.10948
SEQUENCE:3
DTSTAMP:20260423T235033Z
URL:https://members.chambersouth.com/events/details/47th-annual-chambersouth-south-miami-arts-festival-11-17-2018-10948
END:VEVENT

END:VCALENDAR
